﻿BEGIN:VCALENDAR
VERSION:2.0
PRODID:-//SERC-NAHRO - ECPv6.15.20//NONSGML v1.0//EN
CALSCALE:GREGORIAN
METHOD:PUBLISH
X-ORIGINAL-URL:https://www.serc-nahro.org
X-WR-CALDESC:Events for SERC-NAHRO
REFRESH-INTERVAL;VALUE=DURATION:PT1H
X-Robots-Tag:noindex
X-PUBLISHED-TTL:PT1H
BEGIN:VTIMEZONE
TZID:America/New_York
BEGIN:DAYLIGHT
TZOFFSETFROM:-0500
TZOFFSETTO:-0400
TZNAME:EDT
DTSTART:20220313T070000
END:DAYLIGHT
BEGIN:STANDARD
TZOFFSETFROM:-0400
TZOFFSETTO:-0500
TZNAME:EST
DTSTART:20221106T060000
END:STANDARD
BEGIN:DAYLIGHT
TZOFFSETFROM:-0500
TZOFFSETTO:-0400
TZNAME:EDT
DTSTART:20230312T070000
END:DAYLIGHT
BEGIN:STANDARD
TZOFFSETFROM:-0400
TZOFFSETTO:-0500
TZNAME:EST
DTSTART:20231105T060000
END:STANDARD
BEGIN:DAYLIGHT
TZOFFSETFROM:-0500
TZOFFSETTO:-0400
TZNAME:EDT
DTSTART:20240310T070000
END:DAYLIGHT
BEGIN:STANDARD
TZOFFSETFROM:-0400
TZOFFSETTO:-0500
TZNAME:EST
DTSTART:20241103T060000
END:STANDARD
END:VTIMEZONE
BEGIN:VEVENT
DTSTART;VALUE=DATE:20230711
DTEND;VALUE=DATE:20230714
DTSTAMP:20260422T071741
CREATED:20220927T185610Z
LAST-MODIFIED:20220927T185610Z
UID:16262-1689033600-1689292799@www.serc-nahro.org
SUMMARY:GAHRA Maintenance Workshop
DESCRIPTION:
URL:https://www.serc-nahro.org/event/gahra-maintenance-workshop-3/
LOCATION:Macon Marriott City Center\, 240 Coliseum Dr\, Macon\, GA\, 31217\, United States
CATEGORIES:GAHRA
END:VEVENT
BEGIN:VEVENT
DTSTART;VALUE=DATE:20230716
DTEND;VALUE=DATE:20230719
DTSTAMP:20260422T071741
CREATED:20220927T185648Z
LAST-MODIFIED:20220927T185648Z
UID:16264-1689465600-1689724799@www.serc-nahro.org
SUMMARY:GAHRA Commissioner Retreat
DESCRIPTION:
URL:https://www.serc-nahro.org/event/gahra-commissioner-retreat/
LOCATION:Westin Jekyll Island Hotel – Jekyll Island Convention Center\, Jekyll Island\, GA
CATEGORIES:GAHRA
END:VEVENT
END:VCALENDAR