﻿BEGIN:VCALENDAR
VERSION:2.0
PRODID:-//SERC-NAHRO - ECPv6.15.20//NONSGML v1.0//EN
CALSCALE:GREGORIAN
METHOD:PUBLISH
X-ORIGINAL-URL:https://www.serc-nahro.org
X-WR-CALDESC:Events for SERC-NAHRO
REFRESH-INTERVAL;VALUE=DURATION:PT1H
X-Robots-Tag:noindex
X-PUBLISHED-TTL:PT1H
BEGIN:VTIMEZONE
TZID:America/New_York
BEGIN:DAYLIGHT
TZOFFSETFROM:-0500
TZOFFSETTO:-0400
TZNAME:EDT
DTSTART:20210314T070000
END:DAYLIGHT
BEGIN:STANDARD
TZOFFSETFROM:-0400
TZOFFSETTO:-0500
TZNAME:EST
DTSTART:20211107T060000
END:STANDARD
BEGIN:DAYLIGHT
TZOFFSETFROM:-0500
TZOFFSETTO:-0400
TZNAME:EDT
DTSTART:20220313T070000
END:DAYLIGHT
BEGIN:STANDARD
TZOFFSETFROM:-0400
TZOFFSETTO:-0500
TZNAME:EST
DTSTART:20221106T060000
END:STANDARD
BEGIN:DAYLIGHT
TZOFFSETFROM:-0500
TZOFFSETTO:-0400
TZNAME:EDT
DTSTART:20230312T070000
END:DAYLIGHT
BEGIN:STANDARD
TZOFFSETFROM:-0400
TZOFFSETTO:-0500
TZNAME:EST
DTSTART:20231105T060000
END:STANDARD
END:VTIMEZONE
BEGIN:VEVENT
DTSTART;TZID=America/New_York:20220817T130000
DTEND;TZID=America/New_York:20220819T170000
DTSTAMP:20260422T124600
CREATED:20211119T221555Z
LAST-MODIFIED:20220627T213431Z
UID:15752-1660741200-1660928400@www.serc-nahro.org
SUMMARY:2022 MAHRO Annual Conference
DESCRIPTION:2022 MAHRO Annual Conference Notification Registration & Agenda
URL:https://www.serc-nahro.org/event/mahro-annual-conference-2/
LOCATION:Beau Rivage Resort & Casino – Biloxi\, MS\, 875 Beach Blvd\, Biloxi\, Mississippi\, 39530\, United States
CATEGORIES:MAHRO
END:VEVENT
END:VCALENDAR