﻿BEGIN:VCALENDAR
VERSION:2.0
PRODID:-//SERC-NAHRO - ECPv6.15.20//NONSGML v1.0//EN
CALSCALE:GREGORIAN
METHOD:PUBLISH
X-WR-CALNAME:SERC-NAHRO
X-ORIGINAL-URL:https://www.serc-nahro.org
X-WR-CALDESC:Events for SERC-NAHRO
REFRESH-INTERVAL;VALUE=DURATION:PT1H
X-Robots-Tag:noindex
X-PUBLISHED-TTL:PT1H
BEGIN:VTIMEZONE
TZID:America/New_York
BEGIN:DAYLIGHT
TZOFFSETFROM:-0500
TZOFFSETTO:-0400
TZNAME:EDT
DTSTART:20150308T070000
END:DAYLIGHT
BEGIN:STANDARD
TZOFFSETFROM:-0400
TZOFFSETTO:-0500
TZNAME:EST
DTSTART:20151101T060000
END:STANDARD
BEGIN:DAYLIGHT
TZOFFSETFROM:-0500
TZOFFSETTO:-0400
TZNAME:EDT
DTSTART:20160313T070000
END:DAYLIGHT
BEGIN:STANDARD
TZOFFSETFROM:-0400
TZOFFSETTO:-0500
TZNAME:EST
DTSTART:20161106T060000
END:STANDARD
BEGIN:DAYLIGHT
TZOFFSETFROM:-0500
TZOFFSETTO:-0400
TZNAME:EDT
DTSTART:20170312T070000
END:DAYLIGHT
BEGIN:STANDARD
TZOFFSETFROM:-0400
TZOFFSETTO:-0500
TZNAME:EST
DTSTART:20171105T060000
END:STANDARD
END:VTIMEZONE
BEGIN:VEVENT
DTSTART;VALUE=DATE:20160418
DTEND;VALUE=DATE:20160422
DTSTAMP:20260422T070555
CREATED:20151103T225740Z
LAST-MODIFIED:20151103T225740Z
UID:385-1460937600-1461283199@www.serc-nahro.org
SUMMARY:KHA Maintenance Conference
DESCRIPTION:
URL:https://www.serc-nahro.org/event/kha-maintenance-conference-2/
LOCATION:Louisville\, KY\, Louisville\, KY\, United States
END:VEVENT
BEGIN:VEVENT
DTSTART;VALUE=DATE:20160421
DTEND;VALUE=DATE:20160425
DTSTAMP:20260422T070555
CREATED:20151103T230457Z
LAST-MODIFIED:20151103T230457Z
UID:386-1461196800-1461542399@www.serc-nahro.org
SUMMARY:CCHRCO Commissioner Conference
DESCRIPTION:
URL:https://www.serc-nahro.org/event/cchrco-commissioner-conference/
LOCATION:Myrtle Beach\, SC\, Myrtle Beach\, SC\, United States
END:VEVENT
BEGIN:VEVENT
DTSTART;VALUE=DATE:20160425
DTEND;VALUE=DATE:20160428
DTSTAMP:20260422T070555
CREATED:20160205T140705Z
LAST-MODIFIED:20160205T140705Z
UID:558-1461542400-1461801599@www.serc-nahro.org
SUMMARY:TAHRA Spring Workshop
DESCRIPTION:
URL:https://www.serc-nahro.org/event/tahra-spring-workshop/
LOCATION:Unnamed Venue\, Franklin\, TN\, United States
END:VEVENT
END:VCALENDAR