﻿BEGIN:VCALENDAR
VERSION:2.0
PRODID:-//SERC-NAHRO - ECPv6.15.20//NONSGML v1.0//EN
CALSCALE:GREGORIAN
METHOD:PUBLISH
X-WR-CALNAME:SERC-NAHRO
X-ORIGINAL-URL:https://www.serc-nahro.org
X-WR-CALDESC:Events for SERC-NAHRO
REFRESH-INTERVAL;VALUE=DURATION:PT1H
X-Robots-Tag:noindex
X-PUBLISHED-TTL:PT1H
BEGIN:VTIMEZONE
TZID:America/New_York
BEGIN:DAYLIGHT
TZOFFSETFROM:-0500
TZOFFSETTO:-0400
TZNAME:EDT
DTSTART:20150308T070000
END:DAYLIGHT
BEGIN:STANDARD
TZOFFSETFROM:-0400
TZOFFSETTO:-0500
TZNAME:EST
DTSTART:20151101T060000
END:STANDARD
BEGIN:DAYLIGHT
TZOFFSETFROM:-0500
TZOFFSETTO:-0400
TZNAME:EDT
DTSTART:20160313T070000
END:DAYLIGHT
BEGIN:STANDARD
TZOFFSETFROM:-0400
TZOFFSETTO:-0500
TZNAME:EST
DTSTART:20161106T060000
END:STANDARD
BEGIN:DAYLIGHT
TZOFFSETFROM:-0500
TZOFFSETTO:-0400
TZNAME:EDT
DTSTART:20170312T070000
END:DAYLIGHT
BEGIN:STANDARD
TZOFFSETFROM:-0400
TZOFFSETTO:-0500
TZNAME:EST
DTSTART:20171105T060000
END:STANDARD
END:VTIMEZONE
BEGIN:VEVENT
DTSTART;VALUE=DATE:20160817
DTEND;VALUE=DATE:20160820
DTSTAMP:20260422T014950
CREATED:20160220T001121Z
LAST-MODIFIED:20160220T001121Z
UID:721-1471392000-1471651199@www.serc-nahro.org
SUMMARY:MAHRO Annual Meeting
DESCRIPTION:
URL:https://www.serc-nahro.org/event/mahro-annual-meeting/
LOCATION:Biloxi\, MS\, 875 Beach Blvd\, Biloxi\, MS\, 39530\, United States
END:VEVENT
BEGIN:VEVENT
DTSTART;VALUE=DATE:20160818
DTEND;VALUE=DATE:20160824
DTSTAMP:20260422T014950
CREATED:20151104T124338Z
LAST-MODIFIED:20151104T124338Z
UID:388-1471478400-1471996799@www.serc-nahro.org
SUMMARY:CCHRCO Annual Conference 2016
DESCRIPTION:
URL:https://www.serc-nahro.org/event/cchrco-annual-conference-2016/
LOCATION:Myrtle Beach\, SC\, Myrtle Beach\, SC\, United States
END:VEVENT
END:VCALENDAR