﻿BEGIN:VCALENDAR
VERSION:2.0
PRODID:-//SERC-NAHRO - ECPv6.15.20//NONSGML v1.0//EN
CALSCALE:GREGORIAN
METHOD:PUBLISH
X-WR-CALNAME:SERC-NAHRO
X-ORIGINAL-URL:https://www.serc-nahro.org
X-WR-CALDESC:Events for SERC-NAHRO
REFRESH-INTERVAL;VALUE=DURATION:PT1H
X-Robots-Tag:noindex
X-PUBLISHED-TTL:PT1H
BEGIN:VTIMEZONE
TZID:America/New_York
BEGIN:DAYLIGHT
TZOFFSETFROM:-0500
TZOFFSETTO:-0400
TZNAME:EDT
DTSTART:20160313T070000
END:DAYLIGHT
BEGIN:STANDARD
TZOFFSETFROM:-0400
TZOFFSETTO:-0500
TZNAME:EST
DTSTART:20161106T060000
END:STANDARD
BEGIN:DAYLIGHT
TZOFFSETFROM:-0500
TZOFFSETTO:-0400
TZNAME:EDT
DTSTART:20170312T070000
END:DAYLIGHT
BEGIN:STANDARD
TZOFFSETFROM:-0400
TZOFFSETTO:-0500
TZNAME:EST
DTSTART:20171105T060000
END:STANDARD
BEGIN:DAYLIGHT
TZOFFSETFROM:-0500
TZOFFSETTO:-0400
TZNAME:EDT
DTSTART:20180311T070000
END:DAYLIGHT
BEGIN:STANDARD
TZOFFSETFROM:-0400
TZOFFSETTO:-0500
TZNAME:EST
DTSTART:20181104T060000
END:STANDARD
END:VTIMEZONE
BEGIN:VEVENT
DTSTART;VALUE=DATE:20170410
DTEND;VALUE=DATE:20170413
DTSTAMP:20260421T154810
CREATED:20170224T224746Z
LAST-MODIFIED:20170224T224746Z
UID:6203-1491782400-1492041599@www.serc-nahro.org
SUMMARY:TAHRA Spring Workshop
DESCRIPTION:
URL:https://www.serc-nahro.org/event/tahra-spring-workshop-2/
LOCATION:Franklin Marriott-Cool Springs\, Franklin\, TN\, Franklin\, TN
END:VEVENT
BEGIN:VEVENT
DTSTART;VALUE=DATE:20170410
DTEND;VALUE=DATE:20170414
DTSTAMP:20260421T154810
CREATED:20170224T225220Z
LAST-MODIFIED:20170224T225220Z
UID:6207-1491782400-1492127999@www.serc-nahro.org
SUMMARY:KY Housing Association\, Inc. Maintenance Workshop
DESCRIPTION:
URL:https://www.serc-nahro.org/event/ky-housing-association-inc-maintenance-workshop/
LOCATION:Holiday Inn\, Bowling Green\, KY
END:VEVENT
BEGIN:VEVENT
DTSTART;VALUE=DATE:20170417
DTEND;VALUE=DATE:20170420
DTSTAMP:20260421T154810
CREATED:20170224T225148Z
LAST-MODIFIED:20170224T225148Z
UID:6211-1492387200-1492646399@www.serc-nahro.org
SUMMARY:AAHRA Spring Workshop
DESCRIPTION:
URL:https://www.serc-nahro.org/event/aahra-spring-workshop/
LOCATION:Hyatt Regency-Wynfrey\, Birmingham\, AL
END:VEVENT
BEGIN:VEVENT
DTSTART;VALUE=DATE:20170418
DTEND;VALUE=DATE:20170421
DTSTAMP:20260421T154810
CREATED:20170224T225122Z
LAST-MODIFIED:20170224T225122Z
UID:6217-1492473600-1492732799@www.serc-nahro.org
SUMMARY:WVAHA Spring Workshop
DESCRIPTION:
URL:https://www.serc-nahro.org/event/wvaha-spring-workshop/
LOCATION:Chief Logan Conference Center\, Logan\, WV
END:VEVENT
BEGIN:VEVENT
DTSTART;VALUE=DATE:20170420
DTEND;VALUE=DATE:20170424
DTSTAMP:20260421T154810
CREATED:20161010T142332Z
LAST-MODIFIED:20170214T215615Z
UID:4864-1492646400-1492991999@www.serc-nahro.org
SUMMARY:CCHRCO Commissioner Conference
DESCRIPTION:
URL:https://www.serc-nahro.org/event/cchrco-commissioner-conference-2/
LOCATION:Myrtle Beach\, SC\, Myrtle Beach\, SC\, United States
CATEGORIES:CCHRCO
END:VEVENT
BEGIN:VEVENT
DTSTART;VALUE=DATE:20170421
DTEND;VALUE=DATE:20170423
DTSTAMP:20260421T154810
CREATED:20170224T225055Z
LAST-MODIFIED:20170224T225055Z
UID:6221-1492732800-1492905599@www.serc-nahro.org
SUMMARY:GAHRA Executive Committee Meeting
DESCRIPTION:
URL:https://www.serc-nahro.org/event/gahra-executive-committee-meeting/
LOCATION:Calaway Gardens\, Pine Mountain\, GA
END:VEVENT
BEGIN:VEVENT
DTSTART;VALUE=DATE:20170423
DTEND;VALUE=DATE:20170426
DTSTAMP:20260421T154810
CREATED:20170224T225025Z
LAST-MODIFIED:20170224T225025Z
UID:6226-1492905600-1493164799@www.serc-nahro.org
SUMMARY:MAHRO Commissioner's Conference
DESCRIPTION:
URL:https://www.serc-nahro.org/event/mahro-commissioners-conference-2/
LOCATION:Montgomery Renaissance Hotel\, Montgomery\, AL
END:VEVENT
BEGIN:VEVENT
DTSTART;VALUE=DATE:20170426
DTEND;VALUE=DATE:20170429
DTSTAMP:20260421T154810
CREATED:20170201T215907Z
LAST-MODIFIED:20170214T215651Z
UID:6064-1493164800-1493423999@www.serc-nahro.org
SUMMARY:VAHCDO 2017 Annual Conference
DESCRIPTION:
URL:https://www.serc-nahro.org/event/vahcdo-2017-annual-conference/
LOCATION:Hilton Hotel and Spa\, Richmond\, VA\, 12042 West Broad Street\, Richmond\, VA\, 23233\, United States
CATEGORIES:VAHCDO
END:VEVENT
BEGIN:VEVENT
DTSTART;VALUE=DATE:20170430
DTEND;VALUE=DATE:20170504
DTSTAMP:20260421T154810
CREATED:20170224T225000Z
LAST-MODIFIED:20170224T225000Z
UID:6230-1493510400-1493855999@www.serc-nahro.org
SUMMARY:PHADA Annual Convention & Exhibition
DESCRIPTION:
URL:https://www.serc-nahro.org/event/phada-annual-convention-exhibition/
LOCATION:Hilton Chicago – S. Michigan Avenue\, Chicago\, IL
END:VEVENT
END:VCALENDAR