﻿BEGIN:VCALENDAR
VERSION:2.0
PRODID:-//SERC-NAHRO - ECPv6.15.20//NONSGML v1.0//EN
CALSCALE:GREGORIAN
METHOD:PUBLISH
X-ORIGINAL-URL:https://www.serc-nahro.org
X-WR-CALDESC:Events for SERC-NAHRO
REFRESH-INTERVAL;VALUE=DURATION:PT1H
X-Robots-Tag:noindex
X-PUBLISHED-TTL:PT1H
BEGIN:VTIMEZONE
TZID:America/New_York
BEGIN:DAYLIGHT
TZOFFSETFROM:-0500
TZOFFSETTO:-0400
TZNAME:EDT
DTSTART:20160313T070000
END:DAYLIGHT
BEGIN:STANDARD
TZOFFSETFROM:-0400
TZOFFSETTO:-0500
TZNAME:EST
DTSTART:20161106T060000
END:STANDARD
BEGIN:DAYLIGHT
TZOFFSETFROM:-0500
TZOFFSETTO:-0400
TZNAME:EDT
DTSTART:20170312T070000
END:DAYLIGHT
BEGIN:STANDARD
TZOFFSETFROM:-0400
TZOFFSETTO:-0500
TZNAME:EST
DTSTART:20171105T060000
END:STANDARD
BEGIN:DAYLIGHT
TZOFFSETFROM:-0500
TZOFFSETTO:-0400
TZNAME:EDT
DTSTART:20180311T070000
END:DAYLIGHT
BEGIN:STANDARD
TZOFFSETFROM:-0400
TZOFFSETTO:-0500
TZNAME:EST
DTSTART:20181104T060000
END:STANDARD
END:VTIMEZONE
BEGIN:VEVENT
DTSTART;VALUE=DATE:20170430
DTEND;VALUE=DATE:20170504
DTSTAMP:20260421T143225
CREATED:20170224T225000Z
LAST-MODIFIED:20170224T225000Z
UID:6230-1493510400-1493855999@www.serc-nahro.org
SUMMARY:PHADA Annual Convention & Exhibition
DESCRIPTION:
URL:https://www.serc-nahro.org/event/phada-annual-convention-exhibition/
LOCATION:Hilton Chicago – S. Michigan Avenue\, Chicago\, IL
END:VEVENT
BEGIN:VEVENT
DTSTART;VALUE=DATE:20170508
DTEND;VALUE=DATE:20170510
DTSTAMP:20260421T143225
CREATED:20170224T224943Z
LAST-MODIFIED:20170224T224943Z
UID:6234-1494201600-1494374399@www.serc-nahro.org
SUMMARY:CCHRCO Spring Workshop
DESCRIPTION:
URL:https://www.serc-nahro.org/event/cchrco-spring-workshop/
LOCATION:Double Tree Hotel\, Asheville\, NC
END:VEVENT
BEGIN:VEVENT
DTSTART;VALUE=DATE:20170517
DTEND;VALUE=DATE:20170520
DTSTAMP:20260421T143225
CREATED:20170224T224920Z
LAST-MODIFIED:20170306T175608Z
UID:6238-1494979200-1495238399@www.serc-nahro.org
SUMMARY:FAHRA ED Forum & FL Housing Summit
DESCRIPTION:
URL:https://www.serc-nahro.org/event/fahra-ed-forum-and-fl-housing-summit/
LOCATION:Marriott Key West Beachside Resort\, Key West\, FL
END:VEVENT
BEGIN:VEVENT
DTSTART;VALUE=DATE:20170520
DTEND;VALUE=DATE:20170523
DTSTAMP:20260421T143225
CREATED:20170224T224858Z
LAST-MODIFIED:20170224T224858Z
UID:6242-1495238400-1495497599@www.serc-nahro.org
SUMMARY:GAHRA Spring Workshop
DESCRIPTION:
URL:https://www.serc-nahro.org/event/gahra-spring-workshop/
END:VEVENT
END:VCALENDAR