﻿BEGIN:VCALENDAR
VERSION:2.0
PRODID:-//SERC-NAHRO - ECPv6.15.20//NONSGML v1.0//EN
CALSCALE:GREGORIAN
METHOD:PUBLISH
X-WR-CALNAME:SERC-NAHRO
X-ORIGINAL-URL:https://www.serc-nahro.org
X-WR-CALDESC:Events for SERC-NAHRO
REFRESH-INTERVAL;VALUE=DURATION:PT1H
X-Robots-Tag:noindex
X-PUBLISHED-TTL:PT1H
BEGIN:VTIMEZONE
TZID:America/New_York
BEGIN:DAYLIGHT
TZOFFSETFROM:-0500
TZOFFSETTO:-0400
TZNAME:EDT
DTSTART:20160313T070000
END:DAYLIGHT
BEGIN:STANDARD
TZOFFSETFROM:-0400
TZOFFSETTO:-0500
TZNAME:EST
DTSTART:20161106T060000
END:STANDARD
BEGIN:DAYLIGHT
TZOFFSETFROM:-0500
TZOFFSETTO:-0400
TZNAME:EDT
DTSTART:20170312T070000
END:DAYLIGHT
BEGIN:STANDARD
TZOFFSETFROM:-0400
TZOFFSETTO:-0500
TZNAME:EST
DTSTART:20171105T060000
END:STANDARD
BEGIN:DAYLIGHT
TZOFFSETFROM:-0500
TZOFFSETTO:-0400
TZNAME:EDT
DTSTART:20180311T070000
END:DAYLIGHT
BEGIN:STANDARD
TZOFFSETFROM:-0400
TZOFFSETTO:-0500
TZNAME:EST
DTSTART:20181104T060000
END:STANDARD
END:VTIMEZONE
BEGIN:VEVENT
DTSTART;VALUE=DATE:20170716
DTEND;VALUE=DATE:20170719
DTSTAMP:20260421T114651
CREATED:20170306T171845Z
LAST-MODIFIED:20170306T171845Z
UID:6260-1500163200-1500422399@www.serc-nahro.org
SUMMARY:NAHRO Summer Conference
DESCRIPTION:
URL:https://www.serc-nahro.org/event/nahro-summer-conference/
LOCATION:Indianapolis Marriott Downtown\, Indianapolis\, IN
END:VEVENT
BEGIN:VEVENT
DTSTART;VALUE=DATE:20170717
DTEND;VALUE=DATE:20170721
DTSTAMP:20260421T114651
CREATED:20170306T172047Z
LAST-MODIFIED:20170306T172047Z
UID:6263-1500249600-1500595199@www.serc-nahro.org
SUMMARY:GAHRA Maintenance Workshop
DESCRIPTION:
URL:https://www.serc-nahro.org/event/gahra-maintenance-workshop/
LOCATION:Macon Marriott City Center\, 240 Coliseum Dr\, Macon\, GA\, 31217\, United States
END:VEVENT
BEGIN:VEVENT
DTSTART;VALUE=DATE:20170731
DTEND;VALUE=DATE:20170804
DTSTAMP:20260421T114651
CREATED:20170306T172344Z
LAST-MODIFIED:20170306T172344Z
UID:6265-1501459200-1501804799@www.serc-nahro.org
SUMMARY:FAHRO Annual Convention and Trade Show
DESCRIPTION:
URL:https://www.serc-nahro.org/event/fahro-annual-convention-and-trade-show/
LOCATION:Disney Grand Floridian\, Orlando\, FL
END:VEVENT
END:VCALENDAR