﻿BEGIN:VCALENDAR
VERSION:2.0
PRODID:-//SERC-NAHRO - ECPv6.15.20//NONSGML v1.0//EN
CALSCALE:GREGORIAN
METHOD:PUBLISH
X-WR-CALNAME:SERC-NAHRO
X-ORIGINAL-URL:https://www.serc-nahro.org
X-WR-CALDESC:Events for SERC-NAHRO
REFRESH-INTERVAL;VALUE=DURATION:PT1H
X-Robots-Tag:noindex
X-PUBLISHED-TTL:PT1H
BEGIN:VTIMEZONE
TZID:America/New_York
BEGIN:DAYLIGHT
TZOFFSETFROM:-0500
TZOFFSETTO:-0400
TZNAME:EDT
DTSTART:20160313T070000
END:DAYLIGHT
BEGIN:STANDARD
TZOFFSETFROM:-0400
TZOFFSETTO:-0500
TZNAME:EST
DTSTART:20161106T060000
END:STANDARD
BEGIN:DAYLIGHT
TZOFFSETFROM:-0500
TZOFFSETTO:-0400
TZNAME:EDT
DTSTART:20170312T070000
END:DAYLIGHT
BEGIN:STANDARD
TZOFFSETFROM:-0400
TZOFFSETTO:-0500
TZNAME:EST
DTSTART:20171105T060000
END:STANDARD
BEGIN:DAYLIGHT
TZOFFSETFROM:-0500
TZOFFSETTO:-0400
TZNAME:EDT
DTSTART:20180311T070000
END:DAYLIGHT
BEGIN:STANDARD
TZOFFSETFROM:-0400
TZOFFSETTO:-0500
TZNAME:EST
DTSTART:20181104T060000
END:STANDARD
END:VTIMEZONE
BEGIN:VEVENT
DTSTART;VALUE=DATE:20170910
DTEND;VALUE=DATE:20170913
DTSTAMP:20260421T090827
CREATED:20170306T173143Z
LAST-MODIFIED:20170306T173143Z
UID:6272-1505001600-1505260799@www.serc-nahro.org
SUMMARY:PHADA Legislative Conference
DESCRIPTION:
URL:https://www.serc-nahro.org/event/phada-legislative-conference/
LOCATION:Washington Court Hotel\, Washington\, DC
END:VEVENT
BEGIN:VEVENT
DTSTART;VALUE=DATE:20170917
DTEND;VALUE=DATE:20170921
DTSTAMP:20260421T090827
CREATED:20170306T173501Z
LAST-MODIFIED:20170306T173501Z
UID:6276-1505606400-1505951999@www.serc-nahro.org
SUMMARY:TAHRA Annual Meeting
DESCRIPTION:
URL:https://www.serc-nahro.org/event/tahra-annual-meeting/
LOCATION:Marriott Shoals Hotel and Spa\, Florence\, AL
END:VEVENT
BEGIN:VEVENT
DTSTART;VALUE=DATE:20170917
DTEND;VALUE=DATE:20170921
DTSTAMP:20260421T090827
CREATED:20170306T173700Z
LAST-MODIFIED:20170306T173700Z
UID:6279-1505606400-1505951999@www.serc-nahro.org
SUMMARY:GAHRA Annual Conference
DESCRIPTION:
URL:https://www.serc-nahro.org/event/gahra-annual-conference/
LOCATION:Marriott Savannah Riverfront Hotel\, 100 General McIntosh Blvd\, Savannah\, GA\, 31401\, United States
END:VEVENT
BEGIN:VEVENT
DTSTART;VALUE=DATE:20170918
DTEND;VALUE=DATE:20170922
DTSTAMP:20260421T090827
CREATED:20170306T174038Z
LAST-MODIFIED:20170306T174038Z
UID:6283-1505692800-1506038399@www.serc-nahro.org
SUMMARY:KY Housing Association\, Inc.
DESCRIPTION:
URL:https://www.serc-nahro.org/event/ky-housing-association-inc/
LOCATION:Holiday Inn Bowling Green\, Bowling Green\, KY
END:VEVENT
END:VCALENDAR