﻿BEGIN:VCALENDAR
VERSION:2.0
PRODID:-//SERC-NAHRO - ECPv6.15.20//NONSGML v1.0//EN
CALSCALE:GREGORIAN
METHOD:PUBLISH
X-WR-CALNAME:SERC-NAHRO
X-ORIGINAL-URL:https://www.serc-nahro.org
X-WR-CALDESC:Events for SERC-NAHRO
REFRESH-INTERVAL;VALUE=DURATION:PT1H
X-Robots-Tag:noindex
X-PUBLISHED-TTL:PT1H
BEGIN:VTIMEZONE
TZID:America/New_York
BEGIN:DAYLIGHT
TZOFFSETFROM:-0500
TZOFFSETTO:-0400
TZNAME:EDT
DTSTART:20160313T070000
END:DAYLIGHT
BEGIN:STANDARD
TZOFFSETFROM:-0400
TZOFFSETTO:-0500
TZNAME:EST
DTSTART:20161106T060000
END:STANDARD
BEGIN:DAYLIGHT
TZOFFSETFROM:-0500
TZOFFSETTO:-0400
TZNAME:EDT
DTSTART:20170312T070000
END:DAYLIGHT
BEGIN:STANDARD
TZOFFSETFROM:-0400
TZOFFSETTO:-0500
TZNAME:EST
DTSTART:20171105T060000
END:STANDARD
BEGIN:DAYLIGHT
TZOFFSETFROM:-0500
TZOFFSETTO:-0400
TZNAME:EDT
DTSTART:20180311T070000
END:DAYLIGHT
BEGIN:STANDARD
TZOFFSETFROM:-0400
TZOFFSETTO:-0500
TZNAME:EST
DTSTART:20181104T060000
END:STANDARD
END:VTIMEZONE
BEGIN:VEVENT
DTSTART;VALUE=DATE:20171210
DTEND;VALUE=DATE:20171214
DTSTAMP:20260421T045832
CREATED:20170306T175452Z
LAST-MODIFIED:20170306T175452Z
UID:6298-1512864000-1513209599@www.serc-nahro.org
SUMMARY:KY Housing Association\, Inc. Executive Conference
DESCRIPTION:
URL:https://www.serc-nahro.org/event/ky-housing-association-inc-executive-conference/
LOCATION:Embassy Suites Hotel\, Lexington\, KY
END:VEVENT
END:VCALENDAR